BEGIN:VCALENDAR
VERSION:2.0
PRODID:-//Women in Revenue - ECPv6.15.18//NONSGML v1.0//EN
CALSCALE:GREGORIAN
METHOD:PUBLISH
X-WR-CALNAME:Women in Revenue
X-ORIGINAL-URL:https://womeninrevenue.org
X-WR-CALDESC:Events for Women in Revenue
REFRESH-INTERVAL;VALUE=DURATION:PT1H
X-Robots-Tag:noindex
X-PUBLISHED-TTL:PT1H
BEGIN:VTIMEZONE
TZID:America/Los_Angeles
BEGIN:DAYLIGHT
TZOFFSETFROM:-0800
TZOFFSETTO:-0700
TZNAME:PDT
DTSTART:20210314T100000
END:DAYLIGHT
BEGIN:STANDARD
TZOFFSETFROM:-0700
TZOFFSETTO:-0800
TZNAME:PST
DTSTART:20211107T090000
END:STANDARD
BEGIN:DAYLIGHT
TZOFFSETFROM:-0800
TZOFFSETTO:-0700
TZNAME:PDT
DTSTART:20220313T100000
END:DAYLIGHT
BEGIN:STANDARD
TZOFFSETFROM:-0700
TZOFFSETTO:-0800
TZNAME:PST
DTSTART:20221106T090000
END:STANDARD
BEGIN:DAYLIGHT
TZOFFSETFROM:-0800
TZOFFSETTO:-0700
TZNAME:PDT
DTSTART:20230312T100000
END:DAYLIGHT
BEGIN:STANDARD
TZOFFSETFROM:-0700
TZOFFSETTO:-0800
TZNAME:PST
DTSTART:20231105T090000
END:STANDARD
END:VTIMEZONE
BEGIN:VEVENT
DTSTART;TZID=America/Los_Angeles:20220921T183000
DTEND;TZID=America/Los_Angeles:20220921T210000
DTSTAMP:20260420T021301
CREATED:20220824T185032Z
LAST-MODIFIED:20220824T185032Z
UID:549-1663785000-1663794000@womeninrevenue.org
SUMMARY:Dreamforce Panel
DESCRIPTION:Women in Revenue is partnering with Demandbase\, On24 and PFL to host an exclusive event during Dreamforce at the spectacular San Francisco Museum of Modern Art. Don’t miss this opportunity to network and nosh while also hearing from a panel of top executives and allies on the importance of mentorship and allyship to power your business forward with a stronger sense of confidence and support!
URL:https://womeninrevenue.org/event/dreamforce-panel/
END:VEVENT
END:VCALENDAR