BEGIN:VCALENDAR
VERSION:2.0
PRODID:-//Women in Revenue - ECPv6.15.18//NONSGML v1.0//EN
CALSCALE:GREGORIAN
METHOD:PUBLISH
X-WR-CALNAME:Women in Revenue
X-ORIGINAL-URL:https://womeninrevenue.org
X-WR-CALDESC:Events for Women in Revenue
REFRESH-INTERVAL;VALUE=DURATION:PT1H
X-Robots-Tag:noindex
X-PUBLISHED-TTL:PT1H
BEGIN:VTIMEZONE
TZID:America/Los_Angeles
BEGIN:DAYLIGHT
TZOFFSETFROM:-0800
TZOFFSETTO:-0700
TZNAME:PDT
DTSTART:20220313T100000
END:DAYLIGHT
BEGIN:STANDARD
TZOFFSETFROM:-0700
TZOFFSETTO:-0800
TZNAME:PST
DTSTART:20221106T090000
END:STANDARD
BEGIN:DAYLIGHT
TZOFFSETFROM:-0800
TZOFFSETTO:-0700
TZNAME:PDT
DTSTART:20230312T100000
END:DAYLIGHT
BEGIN:STANDARD
TZOFFSETFROM:-0700
TZOFFSETTO:-0800
TZNAME:PST
DTSTART:20231105T090000
END:STANDARD
BEGIN:DAYLIGHT
TZOFFSETFROM:-0800
TZOFFSETTO:-0700
TZNAME:PDT
DTSTART:20240310T100000
END:DAYLIGHT
BEGIN:STANDARD
TZOFFSETFROM:-0700
TZOFFSETTO:-0800
TZNAME:PST
DTSTART:20241103T090000
END:STANDARD
END:VTIMEZONE
BEGIN:VEVENT
DTSTART;TZID=America/Los_Angeles:20230202T120000
DTEND;TZID=America/Los_Angeles:20230202T131500
DTSTAMP:20260420T021202
CREATED:20230120T225315Z
LAST-MODIFIED:20230120T225315Z
UID:731-1675339200-1675343700@womeninrevenue.org
SUMMARY:Mentorship Huddle: “Harness Your Inner Critic” (Part 2)
DESCRIPTION:Chat with Gretchen DeKnikker\, Founder & Mindset Coach at Unbound & Unbothered about how to harness your inner critic… \n  \nHigh achieving perfectionist women all have one thing in common – an inner voice that is constantly evaluating their efforts. It painstakingly evaluates our decisions\, holds our work to the highest standards\, and drives us to perform at our peak levels. This voice can also lead to paralyzing indecision\, crippling self-doubt and lead to burnout from living in a hypervigilant state of anxiety\, worry\, fear and shame. Some of us think that if we quiet that voice\, we’ll no longer bring our best to every challenge. Others have all the awards and accolades and wonder why they still don’t feel satisfied. In this workshop we will find the line between high standards and counterproductive self-criticism with the goal of not only enjoying the satisfaction of a job well done- and all the moments in between while we’re creating it. \n  \nThis huddle is exclusive to Women in Revenue Professional Members. If you are not a WIR Professional Member sign up – for free – here to snag a spot for this workshop!
URL:https://womeninrevenue.org/event/mentorship-huddle-harness-your-inner-critic-part-2/
END:VEVENT
END:VCALENDAR