BEGIN:VCALENDAR
VERSION:2.0
PRODID:-//Women in Revenue - ECPv6.15.18//NONSGML v1.0//EN
CALSCALE:GREGORIAN
METHOD:PUBLISH
X-WR-CALNAME:Women in Revenue
X-ORIGINAL-URL:https://womeninrevenue.org
X-WR-CALDESC:Events for Women in Revenue
REFRESH-INTERVAL;VALUE=DURATION:PT1H
X-Robots-Tag:noindex
X-PUBLISHED-TTL:PT1H
BEGIN:VTIMEZONE
TZID:America/Chicago
BEGIN:DAYLIGHT
TZOFFSETFROM:-0600
TZOFFSETTO:-0500
TZNAME:CDT
DTSTART:20230312T080000
END:DAYLIGHT
BEGIN:STANDARD
TZOFFSETFROM:-0500
TZOFFSETTO:-0600
TZNAME:CST
DTSTART:20231105T070000
END:STANDARD
BEGIN:DAYLIGHT
TZOFFSETFROM:-0600
TZOFFSETTO:-0500
TZNAME:CDT
DTSTART:20240310T080000
END:DAYLIGHT
BEGIN:STANDARD
TZOFFSETFROM:-0500
TZOFFSETTO:-0600
TZNAME:CST
DTSTART:20241103T070000
END:STANDARD
BEGIN:DAYLIGHT
TZOFFSETFROM:-0600
TZOFFSETTO:-0500
TZNAME:CDT
DTSTART:20250309T080000
END:DAYLIGHT
BEGIN:STANDARD
TZOFFSETFROM:-0500
TZOFFSETTO:-0600
TZNAME:CST
DTSTART:20251102T070000
END:STANDARD
END:VTIMEZONE
BEGIN:VEVENT
DTSTART;TZID=America/Chicago:20241014T080000
DTEND;TZID=America/Chicago:20241014T160000
DTSTAMP:20260420T021208
CREATED:20240910T184944Z
LAST-MODIFIED:20240910T185110Z
UID:4338-1728892800-1728921600@womeninrevenue.org
SUMMARY:Pavilion Women's Summit
DESCRIPTION:Pavilion is hosting their inaugural Women’s Summit on Monday the 14th and Women in Revenue is a proud sponsor!  \nThis one-day-only exclusive event offers premier access to women-focused topics including: (1) Expanding Influence in the C-Suite\, (2) Becoming an Investor\, and (3) Overcoming the Glass Cliff. \nIf you’re a VP or above in sales\, marketing\, customer success\, revenue operations\, or partnerships – this summit is for you. Apply to attend and\, if accepted\, don’t forget to use the PARTNER10 discount code for 10% of your registration! \nWe hope to see you there…
URL:https://womeninrevenue.org/event/pavilion-womens-summit/
LOCATION:The Fairmont Austin\, 101 Red River Street\, Austin\, TX\, 78701\, United States
END:VEVENT
BEGIN:VEVENT
DTSTART;TZID=America/Chicago:20241014T160000
DTEND;TZID=America/Chicago:20241014T180000
DTSTAMP:20260420T021208
CREATED:20240910T185716Z
LAST-MODIFIED:20240910T185716Z
UID:4345-1728921600-1728928800@womeninrevenue.org
SUMMARY:Women in Revenue Austin Happy Hour
DESCRIPTION:Women in Revenue will be in Austin\, TX for the Pavilion Women’s Summit and GTM2024 events and we’re taking advantage by hosting our OWN happy hour exclusively for local women in revenue and event attendees.  \nAny women in revenue is welcome to sign up and join\, but you must register to reserve your spot since there is a capacity limit.   \nWe look forward to raising a glass with you and celebrating!
URL:https://womeninrevenue.org/event/women-in-revenue-austin-happy-hour/
LOCATION:The Electric Slide\, 91 Red River Street\, Suite 102\, Austin\, TX\, 78701\, United States
ORGANIZER;CN="Women in Revenue":MAILTO:sarah@womeninrevenue.org
END:VEVENT
END:VCALENDAR