BEGIN:VCALENDAR
VERSION:2.0
PRODID:-//Women in Revenue - ECPv6.15.18//NONSGML v1.0//EN
CALSCALE:GREGORIAN
METHOD:PUBLISH
X-ORIGINAL-URL:https://womeninrevenue.org
X-WR-CALDESC:Events for Women in Revenue
REFRESH-INTERVAL;VALUE=DURATION:PT1H
X-Robots-Tag:noindex
X-PUBLISHED-TTL:PT1H
BEGIN:VTIMEZONE
TZID:America/Los_Angeles
BEGIN:DAYLIGHT
TZOFFSETFROM:-0800
TZOFFSETTO:-0700
TZNAME:PDT
DTSTART:20220313T100000
END:DAYLIGHT
BEGIN:STANDARD
TZOFFSETFROM:-0700
TZOFFSETTO:-0800
TZNAME:PST
DTSTART:20221106T090000
END:STANDARD
BEGIN:DAYLIGHT
TZOFFSETFROM:-0800
TZOFFSETTO:-0700
TZNAME:PDT
DTSTART:20230312T100000
END:DAYLIGHT
BEGIN:STANDARD
TZOFFSETFROM:-0700
TZOFFSETTO:-0800
TZNAME:PST
DTSTART:20231105T090000
END:STANDARD
BEGIN:DAYLIGHT
TZOFFSETFROM:-0800
TZOFFSETTO:-0700
TZNAME:PDT
DTSTART:20240310T100000
END:DAYLIGHT
BEGIN:STANDARD
TZOFFSETFROM:-0700
TZOFFSETTO:-0800
TZNAME:PST
DTSTART:20241103T090000
END:STANDARD
END:VTIMEZONE
BEGIN:VEVENT
DTSTART;TZID=America/Los_Angeles:20230907T110000
DTEND;TZID=America/Los_Angeles:20230907T120000
DTSTAMP:20260422T071027
CREATED:20230620T221550Z
LAST-MODIFIED:20230807T200106Z
UID:909-1694084400-1694088000@womeninrevenue.org
SUMMARY:Women in Revenue presents: Breaking Barriers and Rising to Success
DESCRIPTION:Join us for our next virtual event where we will dive into the findings of the 5th Annual State of Women in Revenue Report: “Bridging the Salary Gap: The Paradox of Successful but Unequal.” \nA panel of experts will explore the challenges and opportunities highlighted in the report\, addressing topics such as gender disparities in compensation\, career advancement\, and work-life balance within the revenue industry. Discover strategies to break through barriers\, advocate for equal pay\, and navigate the intricacies of success. \nWe’ll end the event with an amazing opportunity to connect with your peers during 15 minutes of speed-networking! \nDon’t miss this insightful event that aims to empower and inspire women in revenue to achieve their full potential.
URL:https://womeninrevenue.org/event/breaking-barriers/
END:VEVENT
END:VCALENDAR